BEGIN:VCALENDAR
VERSION:2.0
PRODID:-//Plone.org//NONSGML plone.app.event//EN
X-WR-TIMEZONE:Europe/Rome
BEGIN:VEVENT
SUMMARY:Lectio Magistralis di Craig Calhoun\, Direttore della London Schoo
 l of Economics and Political Science.
DTSTART;TZID=Europe/Rome;VALUE=DATE-TIME:20160718T103000
DTEND;TZID=Europe/Rome;VALUE=DATE-TIME:20160718T123000
DTSTAMP;VALUE=DATE-TIME:20260422T204629Z
UID:24745afa10c74e23bc99951bf69171d0@sde.unibo.it
CREATED;VALUE=DATE-TIME:20160630T090029Z
LAST-MODIFIED;VALUE=DATE-TIME:20160711T094852Z
URL:https://sde.unibo.it/it/eventi/lecture-prof.-craig-calhoun-missione-pu
 bblica-della-sociologia-nel-xxi-secolo
END:VEVENT
BEGIN:VTIMEZONE
TZID:Europe/Rome
X-LIC-LOCATION:Europe/Rome
BEGIN:DAYLIGHT
DTSTART;VALUE=DATE-TIME:20160327T030000
TZNAME:CEST
TZOFFSETFROM:+0100
TZOFFSETTO:+0200
END:DAYLIGHT
END:VTIMEZONE
END:VCALENDAR
