BEGIN:VCALENDAR
VERSION:2.0
PRODID:-//Plone.org//NONSGML plone.app.event//EN
X-WR-TIMEZONE:Europe/Rome
BEGIN:VEVENT
SUMMARY:LECTURE “The prevention of domestic violence on national and loc
 al level ‒ its legal basis\, specific of actions and evaluation”
DTSTART;TZID=Europe/Rome;VALUE=DATE-TIME:20160519T140000
DTEND;TZID=Europe/Rome;VALUE=DATE-TIME:20160519T180000
DTSTAMP;VALUE=DATE-TIME:20260422T221640Z
UID:e2de4d3443464b42a6e582aca17d42ff@sde.unibo.it
CREATED;VALUE=DATE-TIME:20160502T085338Z
LAST-MODIFIED;VALUE=DATE-TIME:20160502T085348Z
URL:https://sde.unibo.it/it/eventi/lecture-201cthe-prevention-of-domestic-
 violence-on-national-and-local-level-2012-its-legal-basis-specific-of-acti
 ons-and-evaluation201d
END:VEVENT
BEGIN:VTIMEZONE
TZID:Europe/Rome
X-LIC-LOCATION:Europe/Rome
BEGIN:DAYLIGHT
DTSTART;VALUE=DATE-TIME:20160327T030000
TZNAME:CEST
TZOFFSETFROM:+0100
TZOFFSETTO:+0200
END:DAYLIGHT
END:VTIMEZONE
END:VCALENDAR
