BEGIN:VCALENDAR
VERSION:2.0
PRODID:-//Plone.org//NONSGML plone.app.event//EN
X-WR-TIMEZONE:Europe/Rome
BEGIN:VEVENT
SUMMARY:LECTURE “Chosen aspects of violence against children – its def
 inition\, types\, possibilities of help for abused children and problem’
 s diagnosis in Poland”
DTSTART;TZID=Europe/Rome;VALUE=DATE-TIME:20160518T170000
DTEND;TZID=Europe/Rome;VALUE=DATE-TIME:20160518T190500
DTSTAMP;VALUE=DATE-TIME:20260422T221640Z
UID:c38eb224d37a4c3f9432cbd1691a0ae2@sde.unibo.it
CREATED;VALUE=DATE-TIME:20160510T100455Z
DESCRIPTION:Corso di Laurea in Scienze Criminologiche per l’Investigazio
 ne e la Sicurezza
LAST-MODIFIED;VALUE=DATE-TIME:20160510T100503Z
URL:https://sde.unibo.it/it/eventi/lecture-201cchosen-aspects-of-violence-
 against-children-2013-its-definition-types-possibilities-of-help-for-abuse
 d-children-and-problem2019s-diagnosis-in-poland201d
END:VEVENT
BEGIN:VTIMEZONE
TZID:Europe/Rome
X-LIC-LOCATION:Europe/Rome
BEGIN:DAYLIGHT
DTSTART;VALUE=DATE-TIME:20160327T030000
TZNAME:CEST
TZOFFSETFROM:+0100
TZOFFSETTO:+0200
END:DAYLIGHT
END:VTIMEZONE
END:VCALENDAR
