BEGIN:VCALENDAR
VERSION:2.0
PRODID:-//Plone.org//NONSGML plone.app.event//EN
X-WR-TIMEZONE:Europe/Rome
BEGIN:VEVENT
SUMMARY:Le verità nascoste.
DTSTART;TZID=Europe/Rome;VALUE=DATE-TIME:20240311T150000
DTEND;TZID=Europe/Rome;VALUE=DATE-TIME:20240311T170000
DTSTAMP;VALUE=DATE-TIME:20260421T164710Z
UID:b2dc8922e0374cefa6b0ab4b6f50114c@sde.unibo.it
CREATED;VALUE=DATE-TIME:20240229T112939Z
LAST-MODIFIED;VALUE=DATE-TIME:20240301T140447Z
URL:https://sde.unibo.it/it/eventi/le-verita-nascoste
END:VEVENT
BEGIN:VTIMEZONE
TZID:Europe/Rome
X-LIC-LOCATION:Europe/Rome
BEGIN:STANDARD
DTSTART;VALUE=DATE-TIME:20231029T020000
TZNAME:CET
TZOFFSETFROM:+0200
TZOFFSETTO:+0100
END:STANDARD
END:VTIMEZONE
END:VCALENDAR
