BEGIN:VCALENDAR
VERSION:2.0
PRODID:-//Plone.org//NONSGML plone.app.event//EN
X-WR-TIMEZONE:Europe/Rome
BEGIN:VEVENT
SUMMARY:Le sfide della società delle piattaforme
DTSTART;TZID=Europe/Rome;VALUE=DATE-TIME:20211202T093000
DTEND;TZID=Europe/Rome;VALUE=DATE-TIME:20211202T173000
DTSTAMP;VALUE=DATE-TIME:20260419T162059Z
UID:9ceaa810e2dc4968b44255a7114d9628@sde.unibo.it
CREATED;VALUE=DATE-TIME:20211117T094923Z
DESCRIPTION:L'evento si inserisce nell'ambito del progetto Horizon 2020 PL
 US (Platform Labour in Urban Spaces) guidato dall'Università di Bologna.
LAST-MODIFIED;VALUE=DATE-TIME:20211117T095121Z
URL:https://sde.unibo.it/it/eventi/le-sfide-della-societa-delle-piattaform
 e
END:VEVENT
BEGIN:VTIMEZONE
TZID:Europe/Rome
X-LIC-LOCATION:Europe/Rome
BEGIN:STANDARD
DTSTART;VALUE=DATE-TIME:20211031T020000
TZNAME:CET
TZOFFSETFROM:+0200
TZOFFSETTO:+0100
END:STANDARD
END:VTIMEZONE
END:VCALENDAR
