BEGIN:VCALENDAR
VERSION:2.0
PRODID:-//Plone.org//NONSGML plone.app.event//EN
X-WR-TIMEZONE:Europe/Rome
BEGIN:VEVENT
SUMMARY:Le principali indagini sociali internazionali e il ruolo degli arc
 hivi dati
DTSTART;TZID=Europe/Rome;VALUE=DATE-TIME:20181017T110000
DTEND;TZID=Europe/Rome;VALUE=DATE-TIME:20181017T130000
DTSTAMP;VALUE=DATE-TIME:20260423T142914Z
UID:06a8c0b3b5164b37b928d27ea9b42041@sde.unibo.it
CREATED;VALUE=DATE-TIME:20181005T071003Z
DESCRIPTION:Evento inserito nel calendario della SettimanaDellaSociologia.
 it\n
LAST-MODIFIED;VALUE=DATE-TIME:20181005T071417Z
URL:https://sde.unibo.it/it/eventi/le-principali-indagini-sociali-internaz
 ionali-e-il-ruolo-degli-archivi-dati
END:VEVENT
BEGIN:VTIMEZONE
TZID:Europe/Rome
X-LIC-LOCATION:Europe/Rome
BEGIN:DAYLIGHT
DTSTART;VALUE=DATE-TIME:20180325T030000
TZNAME:CEST
TZOFFSETFROM:+0100
TZOFFSETTO:+0200
END:DAYLIGHT
END:VTIMEZONE
END:VCALENDAR
