BEGIN:VCALENDAR
VERSION:2.0
PRODID:-//Plone.org//NONSGML plone.app.event//EN
X-WR-TIMEZONE:Europe/Rome
BEGIN:VEVENT
SUMMARY:Le partnerships pubblico private: sviluppo o fallimento? un confro
 nto internazionale
DTSTART;TZID=Europe/Rome;VALUE=DATE-TIME:20181206T090000
DTEND;TZID=Europe/Rome;VALUE=DATE-TIME:20181206T133000
DTSTAMP;VALUE=DATE-TIME:20260423T050300Z
UID:944d3245e0d348ab9ac6a5b48b18f186@sde.unibo.it
CREATED;VALUE=DATE-TIME:20181025T062910Z
DESCRIPTION:Seminario di studio - Università di Bologna Campus di Forlì
LAST-MODIFIED;VALUE=DATE-TIME:20181025T063533Z
URL:https://sde.unibo.it/it/eventi/le-partnerships-pubblico-private-svilup
 po-o-fallimento-un-confronto-internazionale
END:VEVENT
BEGIN:VTIMEZONE
TZID:Europe/Rome
X-LIC-LOCATION:Europe/Rome
BEGIN:STANDARD
DTSTART;VALUE=DATE-TIME:20181028T020000
TZNAME:CET
TZOFFSETFROM:+0200
TZOFFSETTO:+0100
END:STANDARD
END:VTIMEZONE
END:VCALENDAR
