BEGIN:VCALENDAR
VERSION:2.0
PRODID:-//Plone.org//NONSGML plone.app.event//EN
X-WR-TIMEZONE:Europe/Rome
BEGIN:VEVENT
SUMMARY:Le guerre islamiche e la Russia
DTSTART;TZID=Europe/Rome;VALUE=DATE-TIME:20151027T110000
DTEND;TZID=Europe/Rome;VALUE=DATE-TIME:20151027T130000
DTSTAMP;VALUE=DATE-TIME:20260425T160236Z
UID:80af70b038b94f1aa1c8957901f07f4e@sde.unibo.it
CREATED;VALUE=DATE-TIME:20151015T101717Z
DESCRIPTION:Lezione magistrale del Prof. Lucio Caracciolo
LAST-MODIFIED;VALUE=DATE-TIME:20151015T102050Z
URL:https://sde.unibo.it/it/eventi/le-guerre-islamiche-e-la-russia
END:VEVENT
BEGIN:VTIMEZONE
TZID:Europe/Rome
X-LIC-LOCATION:Europe/Rome
BEGIN:STANDARD
DTSTART;VALUE=DATE-TIME:20151025T020000
TZNAME:CET
TZOFFSETFROM:+0200
TZOFFSETTO:+0100
END:STANDARD
END:VTIMEZONE
END:VCALENDAR
