BEGIN:VCALENDAR
VERSION:2.0
PRODID:-//Plone.org//NONSGML plone.app.event//EN
X-WR-TIMEZONE:Europe/Rome
BEGIN:VEVENT
SUMMARY:Le funzioni dell’ANAC: vigilanza\, controllo e precontenzioso
DTSTART;TZID=Europe/Rome;VALUE=DATE-TIME:20170524T130000
DTEND;TZID=Europe/Rome;VALUE=DATE-TIME:20170524T130000
DTSTAMP;VALUE=DATE-TIME:20260423T051414Z
UID:7d7454ee18794cf28774639125ef1a7b@sde.unibo.it
CREATED;VALUE=DATE-TIME:20170523T084808Z
DESCRIPTION:Seminario\nDottor Antonio Giannelli Ministero dell’Interno\n
LAST-MODIFIED;VALUE=DATE-TIME:20170523T084833Z
URL:https://sde.unibo.it/it/eventi/le-funzioni-dell2019anac-vigilanza-cont
 rollo-e-precontenzioso
END:VEVENT
BEGIN:VTIMEZONE
TZID:Europe/Rome
X-LIC-LOCATION:Europe/Rome
BEGIN:DAYLIGHT
DTSTART;VALUE=DATE-TIME:20170326T030000
TZNAME:CEST
TZOFFSETFROM:+0100
TZOFFSETTO:+0200
END:DAYLIGHT
END:VTIMEZONE
END:VCALENDAR
