BEGIN:VCALENDAR
VERSION:2.0
PRODID:-//Plone.org//NONSGML plone.app.event//EN
X-WR-TIMEZONE:Europe/Rome
BEGIN:VEVENT
SUMMARY:Le arti e il cibo. Modalità ed esempi di un rapporto
DTSTART;TZID=Europe/Rome;VALUE=DATE-TIME:20160125T153000
DTEND;TZID=Europe/Rome;VALUE=DATE-TIME:20160126T193500
DTSTAMP;VALUE=DATE-TIME:20260426T050138Z
UID:046f918917954aa58ed39ede9eb072e4@sde.unibo.it
CREATED;VALUE=DATE-TIME:20160125T074017Z
LAST-MODIFIED;VALUE=DATE-TIME:20160125T074027Z
URL:https://sde.unibo.it/it/eventi/le-arti-e-il-cibo.-modalita-ed-esempi-d
 i-un-rapporto-1
END:VEVENT
BEGIN:VTIMEZONE
TZID:Europe/Rome
X-LIC-LOCATION:Europe/Rome
BEGIN:STANDARD
DTSTART;VALUE=DATE-TIME:20151025T020000
TZNAME:CET
TZOFFSETFROM:+0200
TZOFFSETTO:+0100
END:STANDARD
END:VTIMEZONE
END:VCALENDAR
