BEGIN:VCALENDAR
VERSION:2.0
PRODID:-//Plone.org//NONSGML plone.app.event//EN
X-WR-TIMEZONE:Europe/Rome
BEGIN:VEVENT
SUMMARY:Le alternative alla detenzione come strumento efficace di riabilit
 azione
DTSTART;TZID=Europe/Rome;VALUE=DATE-TIME:20190402T110000
DTEND;TZID=Europe/Rome;VALUE=DATE-TIME:20190402T130000
DTSTAMP;VALUE=DATE-TIME:20260423T123859Z
UID:ee38ad8d8cf747e1b743ff23e875d521@sde.unibo.it
CREATED;VALUE=DATE-TIME:20190321T112414Z
LAST-MODIFIED;VALUE=DATE-TIME:20190321T113854Z
URL:https://sde.unibo.it/it/eventi/le-alternative-alla-detenzione-come-str
 umento-efficace-di-riabilitazione-1
END:VEVENT
BEGIN:VTIMEZONE
TZID:Europe/Rome
X-LIC-LOCATION:Europe/Rome
BEGIN:DAYLIGHT
DTSTART;VALUE=DATE-TIME:20190331T030000
TZNAME:CEST
TZOFFSETFROM:+0100
TZOFFSETTO:+0200
END:DAYLIGHT
END:VTIMEZONE
END:VCALENDAR
