BEGIN:VCALENDAR
VERSION:2.0
PRODID:-//Plone.org//NONSGML plone.app.event//EN
X-WR-TIMEZONE:Europe/Rome
BEGIN:VEVENT
SUMMARY:Law\, Science and Justice
DTSTART;TZID=Europe/Rome;VALUE=DATE-TIME:20171114T120000
DTEND;TZID=Europe/Rome;VALUE=DATE-TIME:20171114T140000
DTSTAMP;VALUE=DATE-TIME:20260424T233242Z
UID:795b470528fd48a69f9782aed23e4342@sde.unibo.it
CREATED;VALUE=DATE-TIME:20171107T105730Z
DESCRIPTION:Prof. David Faigman\nDean of\nUniversity of California Hasting
 s College of Law (San Francisco)\n
LAST-MODIFIED;VALUE=DATE-TIME:20171107T110218Z
URL:https://sde.unibo.it/it/eventi/law-science-and-justice
END:VEVENT
BEGIN:VTIMEZONE
TZID:Europe/Rome
X-LIC-LOCATION:Europe/Rome
BEGIN:STANDARD
DTSTART;VALUE=DATE-TIME:20171029T020000
TZNAME:CET
TZOFFSETFROM:+0200
TZOFFSETTO:+0100
END:STANDARD
END:VTIMEZONE
END:VCALENDAR
