BEGIN:VCALENDAR
VERSION:2.0
PRODID:-//Plone.org//NONSGML plone.app.event//EN
X-WR-TIMEZONE:Europe/Rome
BEGIN:VEVENT
SUMMARY:Lavoro\, imprenditorialità\, cooperazione
DTSTART;TZID=Europe/Rome;VALUE=DATE-TIME:20170513T091500
DTEND;TZID=Europe/Rome;VALUE=DATE-TIME:20170513T133000
DTSTAMP;VALUE=DATE-TIME:20260423T000113Z
UID:e3542b5b08794b37b1099f82962bd3ec@sde.unibo.it
CREATED;VALUE=DATE-TIME:20170502T051329Z
DESCRIPTION:Seminario
LAST-MODIFIED;VALUE=DATE-TIME:20170502T051347Z
URL:https://sde.unibo.it/it/eventi/lavoro-imprenditorialita-cooperazione
END:VEVENT
BEGIN:VTIMEZONE
TZID:Europe/Rome
X-LIC-LOCATION:Europe/Rome
BEGIN:DAYLIGHT
DTSTART;VALUE=DATE-TIME:20170326T030000
TZNAME:CEST
TZOFFSETFROM:+0100
TZOFFSETTO:+0200
END:DAYLIGHT
END:VTIMEZONE
END:VCALENDAR
