BEGIN:VCALENDAR
VERSION:2.0
PRODID:-//Plone.org//NONSGML plone.app.event//EN
X-WR-TIMEZONE:Europe/Rome
BEGIN:VEVENT
SUMMARY:Lavoro\, corpo\, automatismi
DTSTART;TZID=Europe/Rome;VALUE=DATE-TIME:20191016T171500
DTEND;TZID=Europe/Rome;VALUE=DATE-TIME:20191016T190000
DTSTAMP;VALUE=DATE-TIME:20260424T092645Z
UID:0b497edf36f04259803e5142b6a52917@sde.unibo.it
CREATED;VALUE=DATE-TIME:20191015T085020Z
LAST-MODIFIED;VALUE=DATE-TIME:20191015T085253Z
URL:https://sde.unibo.it/it/eventi/lavoro-corpo-automatismi
END:VEVENT
BEGIN:VTIMEZONE
TZID:Europe/Rome
X-LIC-LOCATION:Europe/Rome
BEGIN:DAYLIGHT
DTSTART;VALUE=DATE-TIME:20190331T030000
TZNAME:CEST
TZOFFSETFROM:+0100
TZOFFSETTO:+0200
END:DAYLIGHT
END:VTIMEZONE
END:VCALENDAR
