BEGIN:VCALENDAR
VERSION:2.0
PRODID:-//Plone.org//NONSGML plone.app.event//EN
X-WR-TIMEZONE:Europe/Rome
BEGIN:VEVENT
SUMMARY:Lavorare nella tempesta tra realtà e immaginazione
DTSTART;TZID=Europe/Rome;VALUE=DATE-TIME:20170321T084500
DTEND;TZID=Europe/Rome;VALUE=DATE-TIME:20170321T144500
DTSTAMP;VALUE=DATE-TIME:20260422T212107Z
UID:bd2798df6a08452389d40f8c40ed2427@sde.unibo.it
CREATED;VALUE=DATE-TIME:20170313T124147Z
DESCRIPTION:... perche c'è sempre dell'altro ...
LAST-MODIFIED;VALUE=DATE-TIME:20170313T124311Z
URL:https://sde.unibo.it/it/eventi/lavorare-nella-tempesta-tra-realta-e-im
 maginazione
END:VEVENT
BEGIN:VTIMEZONE
TZID:Europe/Rome
X-LIC-LOCATION:Europe/Rome
BEGIN:STANDARD
DTSTART;VALUE=DATE-TIME:20161030T020000
TZNAME:CET
TZOFFSETFROM:+0200
TZOFFSETTO:+0100
END:STANDARD
END:VTIMEZONE
END:VCALENDAR
