BEGIN:VCALENDAR
VERSION:2.0
PRODID:-//Plone.org//NONSGML plone.app.event//EN
X-WR-TIMEZONE:Europe/Rome
BEGIN:VEVENT
SUMMARY:L'arte della sostenibilità 
DTSTART;TZID=Europe/Rome;VALUE=DATE-TIME:20170529T143000
DTEND;TZID=Europe/Rome;VALUE=DATE-TIME:20170529T163000
DTSTAMP;VALUE=DATE-TIME:20260423T050059Z
UID:16d213dd4f384e91a9799b010d78758e@sde.unibo.it
CREATED;VALUE=DATE-TIME:20170508T052436Z
DESCRIPTION:#CSRIS17BO
LAST-MODIFIED;VALUE=DATE-TIME:20170508T052604Z
URL:https://sde.unibo.it/it/eventi/larte-della-sostenibilita
END:VEVENT
BEGIN:VTIMEZONE
TZID:Europe/Rome
X-LIC-LOCATION:Europe/Rome
BEGIN:DAYLIGHT
DTSTART;VALUE=DATE-TIME:20170326T030000
TZNAME:CEST
TZOFFSETFROM:+0100
TZOFFSETTO:+0200
END:DAYLIGHT
END:VTIMEZONE
END:VCALENDAR
