BEGIN:VCALENDAR
VERSION:2.0
PRODID:-//Plone.org//NONSGML plone.app.event//EN
X-WR-TIMEZONE:Europe/Rome
BEGIN:VEVENT
SUMMARY:L'applicazione della normativa antiriciclaggio nel sistema economi
 co nazionale e internazionale
DTSTART;TZID=Europe/Rome;VALUE=DATE-TIME:20151106T090000
DTEND;TZID=Europe/Rome;VALUE=DATE-TIME:20151106T183000
DTSTAMP;VALUE=DATE-TIME:20260422T221640Z
UID:a70acff353f94c12bedb5b57e6a5f1de@sde.unibo.it
CREATED;VALUE=DATE-TIME:20151022T105237Z
DESCRIPTION:Cerimonia inaugurale di presentazione del Corso di Alta Formaz
 ione e degli obiettivi formativi perseguiti
LAST-MODIFIED;VALUE=DATE-TIME:20151022T105529Z
URL:https://sde.unibo.it/it/eventi/lapplicazione-della-normativa-antiricic
 laggio-nel-sistema-economico-nazionale-e-internazionale
END:VEVENT
BEGIN:VTIMEZONE
TZID:Europe/Rome
X-LIC-LOCATION:Europe/Rome
BEGIN:STANDARD
DTSTART;VALUE=DATE-TIME:20151025T020000
TZNAME:CET
TZOFFSETFROM:+0200
TZOFFSETTO:+0100
END:STANDARD
END:VTIMEZONE
END:VCALENDAR
