BEGIN:VCALENDAR
VERSION:2.0
PRODID:-//Plone.org//NONSGML plone.app.event//EN
X-WR-TIMEZONE:Europe/Rome
BEGIN:VEVENT
SUMMARY:La riforma del terzo settore
DTSTART;TZID=Europe/Rome;VALUE=DATE-TIME:20161124T093000
DTEND;TZID=Europe/Rome;VALUE=DATE-TIME:20161124T180000
DTSTAMP;VALUE=DATE-TIME:20260423T062753Z
UID:e38df358292d47cdb8131e0d32fc3a01@sde.unibo.it
CREATED;VALUE=DATE-TIME:20161108T160424Z
DESCRIPTION:Regolazione\, attività e finanziamento delle imprese sociali
LAST-MODIFIED;VALUE=DATE-TIME:20161108T160652Z
URL:https://sde.unibo.it/it/eventi/la-riforma-del-terzo-settore
END:VEVENT
BEGIN:VTIMEZONE
TZID:Europe/Rome
X-LIC-LOCATION:Europe/Rome
BEGIN:STANDARD
DTSTART;VALUE=DATE-TIME:20161030T020000
TZNAME:CET
TZOFFSETFROM:+0200
TZOFFSETTO:+0100
END:STANDARD
END:VTIMEZONE
END:VCALENDAR
