BEGIN:VCALENDAR
VERSION:2.0
PRODID:-//Plone.org//NONSGML plone.app.event//EN
X-WR-TIMEZONE:Europe/Rome
BEGIN:VEVENT
SUMMARY:La riforma del diritto fallimentare: verso la soluzione di problem
 i aperti?
DTSTART;TZID=Europe/Rome;VALUE=DATE-TIME:20180622T143000
DTEND;TZID=Europe/Rome;VALUE=DATE-TIME:20180622T183000
DTSTAMP;VALUE=DATE-TIME:20260423T154100Z
UID:c34d879b7338411bb54f2da2442cf5e0@sde.unibo.it
CREATED;VALUE=DATE-TIME:20180606T085142Z
LAST-MODIFIED;VALUE=DATE-TIME:20180606T085720Z
URL:https://sde.unibo.it/it/eventi/la-riforma-del-diritto-fallimentare-ver
 so-la-soluzione-di-problemi-aperti
END:VEVENT
BEGIN:VTIMEZONE
TZID:Europe/Rome
X-LIC-LOCATION:Europe/Rome
BEGIN:DAYLIGHT
DTSTART;VALUE=DATE-TIME:20180325T030000
TZNAME:CEST
TZOFFSETFROM:+0100
TZOFFSETTO:+0200
END:DAYLIGHT
END:VTIMEZONE
END:VCALENDAR
