BEGIN:VCALENDAR
VERSION:2.0
PRODID:-//Plone.org//NONSGML plone.app.event//EN
X-WR-TIMEZONE:Europe/Rome
BEGIN:VEVENT
SUMMARY:La produttività che non c'é\, sfida per l'Italia
DTSTART;TZID=Europe/Rome;VALUE=DATE-TIME:20180216T110000
DTEND;TZID=Europe/Rome;VALUE=DATE-TIME:20180216T130000
DTSTAMP;VALUE=DATE-TIME:20260425T155338Z
UID:65eb2abb1fa7475a8ee11e8818e2355c@sde.unibo.it
CREATED;VALUE=DATE-TIME:20180215T124041Z
DESCRIPTION:workshop organizzato da Nomisma\, con la collaborazione della 
 Banca d’Italia\, sulla produttività in Italia.
LAST-MODIFIED;VALUE=DATE-TIME:20180215T124313Z
URL:https://sde.unibo.it/it/eventi/la-produttivita-che-non-c2019-e-sfida-p
 er-l2019italia
END:VEVENT
BEGIN:VTIMEZONE
TZID:Europe/Rome
X-LIC-LOCATION:Europe/Rome
BEGIN:STANDARD
DTSTART;VALUE=DATE-TIME:20171029T020000
TZNAME:CET
TZOFFSETFROM:+0200
TZOFFSETTO:+0100
END:STANDARD
END:VTIMEZONE
END:VCALENDAR
