BEGIN:VCALENDAR
VERSION:2.0
PRODID:-//Plone.org//NONSGML plone.app.event//EN
X-WR-TIMEZONE:Europe/Rome
BEGIN:VEVENT
SUMMARY:La morte della cultura di massa
DTSTART;TZID=Europe/Rome;VALUE=DATE-TIME:20251103T130000
DTEND;TZID=Europe/Rome;VALUE=DATE-TIME:20251103T150000
DTSTAMP;VALUE=DATE-TIME:20260426T042950Z
UID:849c3667af6f4ae29bf6ca21475b905c@sde.unibo.it
CREATED;VALUE=DATE-TIME:20251030T085426Z
DESCRIPTION:Presentazione del libro di Vanni Codeluppi\, “La morte della
  cultura di massa”.
LAST-MODIFIED;VALUE=DATE-TIME:20251030T085513Z
URL:https://sde.unibo.it/it/eventi/la-morte-della-cultura-di-massa
END:VEVENT
BEGIN:VTIMEZONE
TZID:Europe/Rome
X-LIC-LOCATION:Europe/Rome
BEGIN:STANDARD
DTSTART;VALUE=DATE-TIME:20251026T020000
TZNAME:CET
TZOFFSETFROM:+0200
TZOFFSETTO:+0100
END:STANDARD
END:VTIMEZONE
END:VCALENDAR
