BEGIN:VCALENDAR
VERSION:2.0
PRODID:-//Plone.org//NONSGML plone.app.event//EN
X-WR-TIMEZONE:Europe/Rome
BEGIN:VEVENT
SUMMARY:LA FLESSIBILITÀ NELLE PUBBLICHE AMMINISTRAZIONI
DTSTART;TZID=Europe/Rome;VALUE=DATE-TIME:20250325T150000
DTEND;TZID=Europe/Rome;VALUE=DATE-TIME:20250325T173000
DTSTAMP;VALUE=DATE-TIME:20260421T194138Z
UID:2921715989934cc992ea3e5f34c8b00d@sde.unibo.it
CREATED;VALUE=DATE-TIME:20250325T080050Z
DESCRIPTION:IV CICLO SEMINARIALE\nCLIP - CONVERSAZIONI DI LAVORO E IMPIEGO
  PUBBLICO\nANNO ACCADEMICO 2024/2025
LAST-MODIFIED;VALUE=DATE-TIME:20250325T080220Z
URL:https://sde.unibo.it/it/eventi/la-flessibilita-nelle-pubbliche-amminis
 trazioni
END:VEVENT
BEGIN:VTIMEZONE
TZID:Europe/Rome
X-LIC-LOCATION:Europe/Rome
BEGIN:STANDARD
DTSTART;VALUE=DATE-TIME:20241027T020000
TZNAME:CET
TZOFFSETFROM:+0200
TZOFFSETTO:+0100
END:STANDARD
END:VTIMEZONE
END:VCALENDAR
