BEGIN:VCALENDAR
VERSION:2.0
PRODID:-//Plone.org//NONSGML plone.app.event//EN
X-WR-TIMEZONE:Europe/Rome
BEGIN:VEVENT
SUMMARY:La città neoliberale (and its discontents)
DTSTART;TZID=Europe/Rome;VALUE=DATE-TIME:20230310T153000
DTEND;TZID=Europe/Rome;VALUE=DATE-TIME:20230310T173000
DTSTAMP;VALUE=DATE-TIME:20260426T053924Z
UID:a5a4ca2f4f3e412d99037e6c0eb80ea8@sde.unibo.it
CREATED;VALUE=DATE-TIME:20230301T173841Z
DESCRIPTION:Chair Marco Marrone. Relatori: Gilles Pinson (SciencesPo Borde
 aux) e Charmain Levy (Université du Québec en Outaouais). Discussant: Gi
 ada Coleandro\, Zeno Mutton. Conclusioni: Marco Alberio.
LAST-MODIFIED;VALUE=DATE-TIME:20230301T173859Z
URL:https://sde.unibo.it/it/eventi/la-citta-neoliberale-and-its-discontent
 s
END:VEVENT
BEGIN:VTIMEZONE
TZID:Europe/Rome
X-LIC-LOCATION:Europe/Rome
BEGIN:STANDARD
DTSTART;VALUE=DATE-TIME:20221030T020000
TZNAME:CET
TZOFFSETFROM:+0200
TZOFFSETTO:+0100
END:STANDARD
END:VTIMEZONE
END:VCALENDAR
