BEGIN:VCALENDAR
VERSION:2.0
PRODID:-//Plone.org//NONSGML plone.app.event//EN
X-WR-TIMEZONE:Europe/Rome
BEGIN:VEVENT
SUMMARY:La Bicicletta Salverà i Territori? Energia\, Rigenerazione e Lott
 a all'Overtourism
DTSTART;TZID=Europe/Rome;VALUE=DATE-TIME:20250331T110000
DTEND;TZID=Europe/Rome;VALUE=DATE-TIME:20250331T130000
DTSTAMP;VALUE=DATE-TIME:20260419T144417Z
UID:0c4b861a3f8149428512f1c70360f512@sde.unibo.it
CREATED;VALUE=DATE-TIME:20250324T131413Z
DESCRIPTION:Un dibattito interattivo sulla mobilità sostenibile e l'impat
 to delle ciclovie\nPAOLO PINZUTI\nIntroduce GABRIELE MANELLA\, docente del
  corso di Sociologia del Territorio
LAST-MODIFIED;VALUE=DATE-TIME:20250324T131615Z
URL:https://sde.unibo.it/it/eventi/la-bicicletta-salvera-i-territori-energ
 ia-rigenerazione-e-lotta-all-overtourism
END:VEVENT
BEGIN:VTIMEZONE
TZID:Europe/Rome
X-LIC-LOCATION:Europe/Rome
BEGIN:DAYLIGHT
DTSTART;VALUE=DATE-TIME:20250330T030000
TZNAME:CEST
TZOFFSETFROM:+0100
TZOFFSETTO:+0200
END:DAYLIGHT
END:VTIMEZONE
END:VCALENDAR
