BEGIN:VCALENDAR
VERSION:2.0
PRODID:-//Plone.org//NONSGML plone.app.event//EN
X-WR-TIMEZONE:Europe/Rome
BEGIN:VEVENT
SUMMARY:L’identità nazionale degli stati membri nel diritto dell’Unio
 ne europea di Giacomo Di Federico
DTSTART;TZID=Europe/Rome;VALUE=DATE-TIME:20180328T130000
DTEND;TZID=Europe/Rome;VALUE=DATE-TIME:20180328T150000
DTSTAMP;VALUE=DATE-TIME:20260423T162438Z
UID:c05b5f8a58eb4652879d034107366bcb@sde.unibo.it
CREATED;VALUE=DATE-TIME:20180305T095245Z
DESCRIPTION:Attenzione: per problemi organizzativi l'evento è stato riman
 dato al 28 marzo alle ore 13.
LAST-MODIFIED;VALUE=DATE-TIME:20180312T073747Z
URL:https://sde.unibo.it/it/eventi/l2019identita-nazionale-degli-stati-mem
 bri-nel-diritto-dell2019unione-europea
END:VEVENT
BEGIN:VTIMEZONE
TZID:Europe/Rome
X-LIC-LOCATION:Europe/Rome
BEGIN:DAYLIGHT
DTSTART;VALUE=DATE-TIME:20180325T030000
TZNAME:CEST
TZOFFSETFROM:+0100
TZOFFSETTO:+0200
END:DAYLIGHT
END:VTIMEZONE
END:VCALENDAR
