BEGIN:VCALENDAR
VERSION:2.0
PRODID:-//Plone.org//NONSGML plone.app.event//EN
X-WR-TIMEZONE:Europe/Rome
BEGIN:VEVENT
SUMMARY:L’eredità delle 150 ore
DTSTART;TZID=Europe/Rome;VALUE=DATE-TIME:20230321T150000
DTEND;TZID=Europe/Rome;VALUE=DATE-TIME:20230321T170000
DTSTAMP;VALUE=DATE-TIME:20260425T000615Z
UID:bdb42bc4779f47d6bd6ac6ec13954ceb@sde.unibo.it
CREATED;VALUE=DATE-TIME:20230301T173439Z
DESCRIPTION:Seminario a partire da "Quando gli operai volevano suonare il 
 clavicembalo". Chair: Barbara Giullari. Relatori: Monica Dati e Pietro Cau
 sarano. Discussant: Emanuele Leonardi
LAST-MODIFIED;VALUE=DATE-TIME:20230301T173457Z
URL:https://sde.unibo.it/it/eventi/l-eredita-delle-150-ore
END:VEVENT
BEGIN:VTIMEZONE
TZID:Europe/Rome
X-LIC-LOCATION:Europe/Rome
BEGIN:STANDARD
DTSTART;VALUE=DATE-TIME:20221030T020000
TZNAME:CET
TZOFFSETFROM:+0200
TZOFFSETTO:+0100
END:STANDARD
END:VTIMEZONE
END:VCALENDAR
