BEGIN:VCALENDAR
VERSION:2.0
PRODID:-//Plone.org//NONSGML plone.app.event//EN
X-WR-TIMEZONE:Europe/Rome
BEGIN:VEVENT
SUMMARY:L'approccio neoliberale alla salute mentale: il caso delle politic
 he dell'autismo
DTSTART;TZID=Europe/Rome;VALUE=DATE-TIME:20250408T150000
DTEND;TZID=Europe/Rome;VALUE=DATE-TIME:20250408T170000
DTSTAMP;VALUE=DATE-TIME:20260419T212108Z
UID:8c64f5f33f99477387f964a590fd87e6@sde.unibo.it
CREATED;VALUE=DATE-TIME:20250402T100937Z
DESCRIPTION:In occasione della presentazione del volume Politiche dell'aut
 ismo (DeriveApprodi 2025) alcuni degli autori del volume dialogheranno sul
  tema della salute mentale nel capitalismo neoliberale
LAST-MODIFIED;VALUE=DATE-TIME:20250402T101048Z
URL:https://sde.unibo.it/it/eventi/l-approccio-neoliberale-alla-salute-men
 tale-il-caso-delle-politiche-dell-autismo
END:VEVENT
BEGIN:VTIMEZONE
TZID:Europe/Rome
X-LIC-LOCATION:Europe/Rome
BEGIN:DAYLIGHT
DTSTART;VALUE=DATE-TIME:20250330T030000
TZNAME:CEST
TZOFFSETFROM:+0100
TZOFFSETTO:+0200
END:DAYLIGHT
END:VTIMEZONE
END:VCALENDAR
