BEGIN:VCALENDAR
VERSION:2.0
PRODID:-//Plone.org//NONSGML plone.app.event//EN
X-WR-TIMEZONE:Europe/Rome
BEGIN:VEVENT
SUMMARY:Italia Canada - Borse\, Stage\, Sovvenzioni presso l'Universitè d
 i Quebec
DTSTART;TZID=Europe/Rome;VALUE=DATE-TIME:20150609T100000
DTEND;TZID=Europe/Rome;VALUE=DATE-TIME:20150609T160000
DTSTAMP;VALUE=DATE-TIME:20260420T134010Z
UID:b4fb0b854ff84fa997c55685fff6eba8@sde.unibo.it
CREATED;VALUE=DATE-TIME:20150607T151541Z
DESCRIPTION:                                                              
           incontro con Marco Alberio
LAST-MODIFIED;VALUE=DATE-TIME:20150607T151558Z
URL:https://sde.unibo.it/it/eventi/italia-canada-borse-stage-sovvenzioni-p
 resso-luniversite-di-quebec-1
END:VEVENT
BEGIN:VTIMEZONE
TZID:Europe/Rome
X-LIC-LOCATION:Europe/Rome
BEGIN:DAYLIGHT
DTSTART;VALUE=DATE-TIME:20150329T030000
TZNAME:CEST
TZOFFSETFROM:+0100
TZOFFSETTO:+0200
END:DAYLIGHT
END:VTIMEZONE
END:VCALENDAR
