BEGIN:VCALENDAR
VERSION:2.0
PRODID:-//Plone.org//NONSGML plone.app.event//EN
X-WR-TIMEZONE:Europe/Rome
BEGIN:VEVENT
SUMMARY:Internet\, pedopornografia e adescamento online:  esperienze di ri
 cerca e necessità di formazione
DTSTART;TZID=Europe/Rome;VALUE=DATE-TIME:20180508T150000
DTEND;TZID=Europe/Rome;VALUE=DATE-TIME:20180508T183000
DTSTAMP;VALUE=DATE-TIME:20260422T204628Z
UID:2222c08deca347468f5d73577ab440a4@sde.unibo.it
CREATED;VALUE=DATE-TIME:20180424T122320Z
DESCRIPTION:Seminario a partire dal volume: Macilotti G.\, Pedopornografia
  e tecnologie dell'informazione. Devianza e controllo sociale nella realt
 à italiana e francese\, FrancoAngeli\, Milano\, 2018.
LAST-MODIFIED;VALUE=DATE-TIME:20180424T122338Z
URL:https://sde.unibo.it/it/eventi/internet-pedopornografia-e-adescamento-
 online-esperienze-di-ricerca-e-necessita-di-formazione
END:VEVENT
BEGIN:VTIMEZONE
TZID:Europe/Rome
X-LIC-LOCATION:Europe/Rome
BEGIN:DAYLIGHT
DTSTART;VALUE=DATE-TIME:20180325T030000
TZNAME:CEST
TZOFFSETFROM:+0100
TZOFFSETTO:+0200
END:DAYLIGHT
END:VTIMEZONE
END:VCALENDAR
