BEGIN:VCALENDAR
VERSION:2.0
PRODID:-//Plone.org//NONSGML plone.app.event//EN
X-WR-TIMEZONE:Europe/Rome
BEGIN:VEVENT
SUMMARY:Intelligenze aliene nell’infosfera
DTSTART;TZID=Europe/Rome;VALUE=DATE-TIME:20250319T130000
DTEND;TZID=Europe/Rome;VALUE=DATE-TIME:20250319T150000
DTSTAMP;VALUE=DATE-TIME:20260419T141407Z
UID:d8941e7f77d14291a39c411d3ddf6dac@sde.unibo.it
CREATED;VALUE=DATE-TIME:20250224T121302Z
DESCRIPTION:Rappresentazioni\ne impatti dell’IA\nnel dibattito pubblico
LAST-MODIFIED;VALUE=DATE-TIME:20250224T121437Z
URL:https://sde.unibo.it/it/eventi/intelligenze-aliene-nell-infosfera
END:VEVENT
BEGIN:VTIMEZONE
TZID:Europe/Rome
X-LIC-LOCATION:Europe/Rome
BEGIN:STANDARD
DTSTART;VALUE=DATE-TIME:20241027T020000
TZNAME:CET
TZOFFSETFROM:+0200
TZOFFSETTO:+0100
END:STANDARD
END:VTIMEZONE
END:VCALENDAR
