BEGIN:VCALENDAR
VERSION:2.0
PRODID:-//Plone.org//NONSGML plone.app.event//EN
X-WR-TIMEZONE:Europe/Rome
BEGIN:VEVENT
SUMMARY:Innovazione sociale e tecnologia
DTSTART;TZID=Europe/Rome;VALUE=DATE-TIME:20200203T150000
DTEND;TZID=Europe/Rome;VALUE=DATE-TIME:20200203T170000
DTSTAMP;VALUE=DATE-TIME:20260424T002450Z
UID:3ee5b30ec53343f6b7f7a4fc119f32d0@sde.unibo.it
CREATED;VALUE=DATE-TIME:20200131T141736Z
DESCRIPTION:Strumenti per i nuovi sitemi di governance locale
LAST-MODIFIED;VALUE=DATE-TIME:20200131T142034Z
URL:https://sde.unibo.it/it/eventi/innovazione-sociale-e-tecnologia
END:VEVENT
BEGIN:VTIMEZONE
TZID:Europe/Rome
X-LIC-LOCATION:Europe/Rome
BEGIN:STANDARD
DTSTART;VALUE=DATE-TIME:20191027T020000
TZNAME:CET
TZOFFSETFROM:+0200
TZOFFSETTO:+0100
END:STANDARD
END:VTIMEZONE
END:VCALENDAR
