BEGIN:VCALENDAR
VERSION:2.0
PRODID:-//Plone.org//NONSGML plone.app.event//EN
X-WR-TIMEZONE:Europe/Rome
BEGIN:VEVENT
SUMMARY:Innovative Social Investment Strengthening communities in Europe
DTSTART;TZID=Europe/Rome;VALUE=DATE-TIME:20170504T093000
DTEND;TZID=Europe/Rome;VALUE=DATE-TIME:20170504T130000
DTSTAMP;VALUE=DATE-TIME:20260423T051608Z
UID:86d1b5c2f396466994f98b76eb5e8f72@sde.unibo.it
CREATED;VALUE=DATE-TIME:20170424T115704Z
DESCRIPTION:Seminario
LAST-MODIFIED;VALUE=DATE-TIME:20170424T115715Z
URL:https://sde.unibo.it/it/eventi/innovative-social-investment-strengthen
 ing-communities-in-europe
END:VEVENT
BEGIN:VTIMEZONE
TZID:Europe/Rome
X-LIC-LOCATION:Europe/Rome
BEGIN:DAYLIGHT
DTSTART;VALUE=DATE-TIME:20170326T030000
TZNAME:CEST
TZOFFSETFROM:+0100
TZOFFSETTO:+0200
END:DAYLIGHT
END:VTIMEZONE
END:VCALENDAR
