BEGIN:VCALENDAR
VERSION:2.0
PRODID:-//Plone.org//NONSGML plone.app.event//EN
X-WR-TIMEZONE:Europe/Rome
BEGIN:VEVENT
SUMMARY:Crisi\, Finanza e Banche
DTSTART;TZID=Europe/Rome;VALUE=DATE-TIME:20170316T091000
DTEND;TZID=Europe/Rome;VALUE=DATE-TIME:20170316T131000
DTSTAMP;VALUE=DATE-TIME:20260422T140530Z
UID:081c47b18b9c4530a5167745525a09b6@sde.unibo.it
CREATED;VALUE=DATE-TIME:20170313T111119Z
DESCRIPTION:Ing. Adriano Maestri \nPresidente Cariromagna Gruppo Intesasan
 paolo - 
LAST-MODIFIED;VALUE=DATE-TIME:20170313T112352Z
URL:https://sde.unibo.it/it/eventi/ing.-adriano-maestri-presidente-carirom
 agna-gruppo-intesasanpaolo-crisi-finanza-e-banche
END:VEVENT
BEGIN:VTIMEZONE
TZID:Europe/Rome
X-LIC-LOCATION:Europe/Rome
BEGIN:STANDARD
DTSTART;VALUE=DATE-TIME:20161030T020000
TZNAME:CET
TZOFFSETFROM:+0200
TZOFFSETTO:+0100
END:STANDARD
END:VTIMEZONE
END:VCALENDAR
