BEGIN:VCALENDAR
VERSION:2.0
PRODID:-//Plone.org//NONSGML plone.app.event//EN
X-WR-TIMEZONE:Europe/Rome
BEGIN:VEVENT
SUMMARY:Incontro di presentazione Student for Africa - 2020
DTSTART;TZID=Europe/Rome;VALUE=DATE-TIME:20191218T160000
DTEND;TZID=Europe/Rome;VALUE=DATE-TIME:20191218T190000
DTSTAMP;VALUE=DATE-TIME:20260426T032031Z
UID:0f23b548f6ba48ef90f9bc5c26798d47@sde.unibo.it
CREATED;VALUE=DATE-TIME:20191209T095406Z
DESCRIPTION:Incontro di presentazione “Student for Africa - 2020”\nIl 
 18 Dicembre partecipa all’iniziativa dell’Alma Mater\, rivolta ai suoi
  studenti e inserita nell’ambito dello Startup Day\, per stimolare forme
  di imprenditorialità con impatto nei paesi africani.\nlink: https://site
 .unibo.it/startupdayunibo/it/studentforafrica\n
LAST-MODIFIED;VALUE=DATE-TIME:20191209T095453Z
URL:https://sde.unibo.it/it/eventi/incontro-di-presentazione-student-for-a
 frica-2020
END:VEVENT
BEGIN:VTIMEZONE
TZID:Europe/Rome
X-LIC-LOCATION:Europe/Rome
BEGIN:STANDARD
DTSTART;VALUE=DATE-TIME:20191027T020000
TZNAME:CET
TZOFFSETFROM:+0200
TZOFFSETTO:+0100
END:STANDARD
END:VTIMEZONE
END:VCALENDAR
