BEGIN:VCALENDAR
VERSION:2.0
PRODID:-//Plone.org//NONSGML plone.app.event//EN
X-WR-TIMEZONE:Europe/Rome
BEGIN:VEVENT
SUMMARY:Inclusione e lavoro oltre il workfare. Esperienze territoriali di 
 cura socio-ecologica
DTSTART;TZID=Europe/Rome;VALUE=DATE-TIME:20231129T110000
DTEND;TZID=Europe/Rome;VALUE=DATE-TIME:20231129T130000
DTSTAMP;VALUE=DATE-TIME:20260421T151557Z
UID:676844abb3c6452cb3e7181b25c7219e@sde.unibo.it
CREATED;VALUE=DATE-TIME:20231108T160857Z
DESCRIPTION:Il seminario affronta il rapporto tra lavoro e welfare nel cap
 italismo contemporaneo verso il superamento delle strategie di workfare.
LAST-MODIFIED;VALUE=DATE-TIME:20231124T141233Z
URL:https://sde.unibo.it/it/eventi/inclusione-e-lavoro-oltre-il-workfare-e
 sperienze-territoriali-di-cura-socio-ecologica
END:VEVENT
BEGIN:VTIMEZONE
TZID:Europe/Rome
X-LIC-LOCATION:Europe/Rome
BEGIN:STANDARD
DTSTART;VALUE=DATE-TIME:20231029T020000
TZNAME:CET
TZOFFSETFROM:+0200
TZOFFSETTO:+0100
END:STANDARD
END:VTIMEZONE
END:VCALENDAR
