BEGIN:VCALENDAR
VERSION:2.0
PRODID:-//Plone.org//NONSGML plone.app.event//EN
X-WR-TIMEZONE:Europe/Rome
BEGIN:VEVENT
SUMMARY:Inaugurazione dell’anno accademico della Scuola di Dottorato di 
 Ricerca del Campus di Forlì
DTSTART;TZID=Europe/Rome;VALUE=DATE-TIME:20181206T100000
DTEND;TZID=Europe/Rome;VALUE=DATE-TIME:20181206T130000
DTSTAMP;VALUE=DATE-TIME:20260423T132020Z
UID:431744d57fa1455fb9bb814aba59d185@sde.unibo.it
CREATED;VALUE=DATE-TIME:20181205T151451Z
LAST-MODIFIED;VALUE=DATE-TIME:20181205T151613Z
URL:https://sde.unibo.it/it/eventi/inaugurazione-dell2019anno-accademico-d
 ella-scuola-di-dottorato-di-ricerca-del-campus-di-forli-1
END:VEVENT
BEGIN:VTIMEZONE
TZID:Europe/Rome
X-LIC-LOCATION:Europe/Rome
BEGIN:STANDARD
DTSTART;VALUE=DATE-TIME:20181028T020000
TZNAME:CET
TZOFFSETFROM:+0200
TZOFFSETTO:+0100
END:STANDARD
END:VTIMEZONE
END:VCALENDAR
