BEGIN:VCALENDAR
VERSION:2.0
PRODID:-//Plone.org//NONSGML plone.app.event//EN
X-WR-TIMEZONE:Europe/Rome
BEGIN:VEVENT
SUMMARY:Reimagining mobilities - Immaginari sociali
DTSTART;TZID=Europe/Rome;VALUE=DATE-TIME:20220309T150000
DTEND;TZID=Europe/Rome;VALUE=DATE-TIME:20220309T170000
DTSTAMP;VALUE=DATE-TIME:20260424T170606Z
UID:6df7000221e1444d8e431ce362329614@sde.unibo.it
CREATED;VALUE=DATE-TIME:20220225T181032Z
DESCRIPTION:Maggiori informazioni nella locandina allegata. \nPer registra
 rsi: https://docs.google.com/forms/d/e/1FAIpQLScnWhmB2sdXhmNOAslV9INUXOrE-
 gxLhdGET8b4pK0KV_SsHg/viewform?vc=0&c=0&w=1&flr=0
LAST-MODIFIED;VALUE=DATE-TIME:20220225T181413Z
URL:https://sde.unibo.it/it/eventi/immaginari-sociali
END:VEVENT
BEGIN:VTIMEZONE
TZID:Europe/Rome
X-LIC-LOCATION:Europe/Rome
BEGIN:STANDARD
DTSTART;VALUE=DATE-TIME:20211031T020000
TZNAME:CET
TZOFFSETFROM:+0200
TZOFFSETTO:+0100
END:STANDARD
END:VTIMEZONE
END:VCALENDAR
