BEGIN:VCALENDAR
VERSION:2.0
PRODID:-//Plone.org//NONSGML plone.app.event//EN
X-WR-TIMEZONE:Europe/Rome
BEGIN:VEVENT
SUMMARY:Il trattamento economico nella pubblica amministrazione
DTSTART;TZID=Europe/Rome;VALUE=DATE-TIME:20240313T153000
DTEND;TZID=Europe/Rome;VALUE=DATE-TIME:20240313T173000
DTSTAMP;VALUE=DATE-TIME:20260419T152758Z
UID:2afb5717fa3d482980a70ed573bdb433@sde.unibo.it
CREATED;VALUE=DATE-TIME:20240219T161908Z
DESCRIPTION:Il terzo ciclo di CLIP – Conversazioni di Lavoro e Impiego P
 ubblico – affronta il tema del trattamento economico nella PA.
LAST-MODIFIED;VALUE=DATE-TIME:20240219T161952Z
URL:https://sde.unibo.it/it/eventi/il-trattamento-economico-nella-pubblica
 -amministrazione
END:VEVENT
BEGIN:VTIMEZONE
TZID:Europe/Rome
X-LIC-LOCATION:Europe/Rome
BEGIN:STANDARD
DTSTART;VALUE=DATE-TIME:20231029T020000
TZNAME:CET
TZOFFSETFROM:+0200
TZOFFSETTO:+0100
END:STANDARD
END:VTIMEZONE
END:VCALENDAR
