BEGIN:VCALENDAR
VERSION:2.0
PRODID:-//Plone.org//NONSGML plone.app.event//EN
X-WR-TIMEZONE:Europe/Rome
BEGIN:VEVENT
SUMMARY:Il trattamento dei dati personali nel settore farmaceutico
DTSTART;TZID=Europe/Rome;VALUE=DATE-TIME:20190321T150000
DTEND;TZID=Europe/Rome;VALUE=DATE-TIME:20190321T170000
DTSTAMP;VALUE=DATE-TIME:20260423T123620Z
UID:5dd9890d122e412cadd45af68b96d229@sde.unibo.it
CREATED;VALUE=DATE-TIME:20190318T145014Z
LAST-MODIFIED;VALUE=DATE-TIME:20190318T145340Z
URL:https://sde.unibo.it/it/eventi/il-trattamento-dei-dati-personali-nel-s
 ettore-farmaceutico-1
END:VEVENT
BEGIN:VTIMEZONE
TZID:Europe/Rome
X-LIC-LOCATION:Europe/Rome
BEGIN:STANDARD
DTSTART;VALUE=DATE-TIME:20181028T020000
TZNAME:CET
TZOFFSETFROM:+0200
TZOFFSETTO:+0100
END:STANDARD
END:VTIMEZONE
END:VCALENDAR
