BEGIN:VCALENDAR
VERSION:2.0
PRODID:-//Plone.org//NONSGML plone.app.event//EN
X-WR-TIMEZONE:Europe/Rome
BEGIN:VEVENT
SUMMARY:Il sociologo al lavoro: una professione tra ricerca e operatività
DTSTART;TZID=Europe/Rome;VALUE=DATE-TIME:20171019T110000
DTEND;TZID=Europe/Rome;VALUE=DATE-TIME:20171019T130000
DTSTAMP;VALUE=DATE-TIME:20260422T190934Z
UID:1e97f38f80f148caabc3192c59997a69@sde.unibo.it
CREATED;VALUE=DATE-TIME:20170927T073256Z
DESCRIPTION:Settimana della Sociologia
LAST-MODIFIED;VALUE=DATE-TIME:20171011T071811Z
URL:https://sde.unibo.it/it/eventi/il-sociologo-al-lavoro-una-professione-
 tra-ricerca-e-opportunita
END:VEVENT
BEGIN:VTIMEZONE
TZID:Europe/Rome
X-LIC-LOCATION:Europe/Rome
BEGIN:DAYLIGHT
DTSTART;VALUE=DATE-TIME:20170326T030000
TZNAME:CEST
TZOFFSETFROM:+0100
TZOFFSETTO:+0200
END:DAYLIGHT
END:VTIMEZONE
END:VCALENDAR
