BEGIN:VCALENDAR
VERSION:2.0
PRODID:-//Plone.org//NONSGML plone.app.event//EN
X-WR-TIMEZONE:Europe/Rome
BEGIN:VEVENT
SUMMARY:Il ruolo del Terzo Settore nella promozione dei diritti sociali
DTSTART;TZID=Europe/Rome;VALUE=DATE-TIME:20240312T100000
DTEND;TZID=Europe/Rome;VALUE=DATE-TIME:20240312T130000
DTSTAMP;VALUE=DATE-TIME:20260419T233037Z
UID:3cbbcb4b67c94721922111ac48a04505@sde.unibo.it
CREATED;VALUE=DATE-TIME:20240226T111004Z
LAST-MODIFIED;VALUE=DATE-TIME:20240227T100443Z
URL:https://sde.unibo.it/it/eventi/il-ruolo-del-terzo-settore-nella-promoz
 ione-dei-diritti-sociali
END:VEVENT
BEGIN:VTIMEZONE
TZID:Europe/Rome
X-LIC-LOCATION:Europe/Rome
BEGIN:STANDARD
DTSTART;VALUE=DATE-TIME:20231029T020000
TZNAME:CET
TZOFFSETFROM:+0200
TZOFFSETTO:+0100
END:STANDARD
END:VTIMEZONE
END:VCALENDAR
