BEGIN:VCALENDAR
VERSION:2.0
PRODID:-//Plone.org//NONSGML plone.app.event//EN
X-WR-TIMEZONE:Europe/Rome
BEGIN:VEVENT
SUMMARY:Il regolamento europeo sulla privacy alla vigilia della sua applic
 azione e il coordinamento con la normativa nazionale
DTSTART;TZID=Europe/Rome;VALUE=DATE-TIME:20180420T110000
DTEND;TZID=Europe/Rome;VALUE=DATE-TIME:20180420T170000
DTSTAMP;VALUE=DATE-TIME:20260422T221642Z
UID:45962b804a6e44f0bab7d0c8205da78f@sde.unibo.it
CREATED;VALUE=DATE-TIME:20180410T115741Z
LAST-MODIFIED;VALUE=DATE-TIME:20180410T115758Z
URL:https://sde.unibo.it/it/eventi/il-regolamento-europeo-sulla-privacy-al
 la-vigilia-della-sua-applicazione-e-il-coordinamento-con-la-normativa-nazi
 onale
END:VEVENT
BEGIN:VTIMEZONE
TZID:Europe/Rome
X-LIC-LOCATION:Europe/Rome
BEGIN:DAYLIGHT
DTSTART;VALUE=DATE-TIME:20180325T030000
TZNAME:CEST
TZOFFSETFROM:+0100
TZOFFSETTO:+0200
END:DAYLIGHT
END:VTIMEZONE
END:VCALENDAR
