BEGIN:VCALENDAR
VERSION:2.0
PRODID:-//Plone.org//NONSGML plone.app.event//EN
X-WR-TIMEZONE:Europe/Rome
BEGIN:VEVENT
SUMMARY:Il prodotto enogastronomico tipico come volano turistico di promoz
 ione locale
DTSTART;TZID=Europe/Rome;VALUE=DATE-TIME:20170525T140000
DTEND;TZID=Europe/Rome;VALUE=DATE-TIME:20170525T170000
DTSTAMP;VALUE=DATE-TIME:20260422T204627Z
UID:ab8adf2e615743909120411763723456@sde.unibo.it
CREATED;VALUE=DATE-TIME:20170525T094118Z
LAST-MODIFIED;VALUE=DATE-TIME:20170525T094626Z
URL:https://sde.unibo.it/it/eventi/il-prodotto-enogastronomico-tipico-come
 -volano-turistico-di-promozione-locale
END:VEVENT
BEGIN:VTIMEZONE
TZID:Europe/Rome
X-LIC-LOCATION:Europe/Rome
BEGIN:DAYLIGHT
DTSTART;VALUE=DATE-TIME:20170326T030000
TZNAME:CEST
TZOFFSETFROM:+0100
TZOFFSETTO:+0200
END:DAYLIGHT
END:VTIMEZONE
END:VCALENDAR
