BEGIN:VCALENDAR
VERSION:2.0
PRODID:-//Plone.org//NONSGML plone.app.event//EN
X-WR-TIMEZONE:Europe/Rome
BEGIN:VEVENT
SUMMARY:Il Garante Regionale e il sistema penitenziario in Emilia-Romagna
DTSTART;TZID=Europe/Rome;VALUE=DATE-TIME:20240305T150000
DTEND;TZID=Europe/Rome;VALUE=DATE-TIME:20240305T170000
DTSTAMP;VALUE=DATE-TIME:20260425T223259Z
UID:b0e4141a2f4543468bb12820186da47d@sde.unibo.it
CREATED;VALUE=DATE-TIME:20240129T111603Z
DESCRIPTION:Dott. Roberto Cavalieri\, Garante delle persone sottoposte a m
 isure restrittive o limitative della libertà personale - Regione Emilia-R
 omagna. Introduce Raffaella Sette
LAST-MODIFIED;VALUE=DATE-TIME:20240220T131806Z
URL:https://sde.unibo.it/it/eventi/il-garante-regionale-e-il-sistema-penit
 enziario-in-emilia-romagna
END:VEVENT
BEGIN:VTIMEZONE
TZID:Europe/Rome
X-LIC-LOCATION:Europe/Rome
BEGIN:STANDARD
DTSTART;VALUE=DATE-TIME:20231029T020000
TZNAME:CET
TZOFFSETFROM:+0200
TZOFFSETTO:+0100
END:STANDARD
END:VTIMEZONE
END:VCALENDAR
