BEGIN:VCALENDAR
VERSION:2.0
PRODID:-//Plone.org//NONSGML plone.app.event//EN
X-WR-TIMEZONE:Europe/Rome
BEGIN:VEVENT
SUMMARY:Il controllo societario nel Testo unico della finanza
DTSTART;TZID=Europe/Rome;VALUE=DATE-TIME:20151019T141500
DTEND;TZID=Europe/Rome;VALUE=DATE-TIME:20151019T183000
DTSTAMP;VALUE=DATE-TIME:20260423T050242Z
UID:9c845bfb23374252b5f06810c7cfb981@sde.unibo.it
CREATED;VALUE=DATE-TIME:20151015T130340Z
DESCRIPTION:Seminario di studi organizzato dal Dipartimento di Sociologia 
 e Diritto dell'Economia e dalla Consob in occasione della recente pubblica
 zione dell'omonimo quaderno giuridico
LAST-MODIFIED;VALUE=DATE-TIME:20151015T130551Z
URL:https://sde.unibo.it/it/eventi/il-controllo-societario-nel-testo-unico
 -della-finanza
END:VEVENT
BEGIN:VTIMEZONE
TZID:Europe/Rome
X-LIC-LOCATION:Europe/Rome
BEGIN:DAYLIGHT
DTSTART;VALUE=DATE-TIME:20150329T030000
TZNAME:CEST
TZOFFSETFROM:+0100
TZOFFSETTO:+0200
END:DAYLIGHT
END:VTIMEZONE
END:VCALENDAR
