BEGIN:VCALENDAR
VERSION:2.0
PRODID:-//Plone.org//NONSGML plone.app.event//EN
X-WR-TIMEZONE:Europe/Rome
BEGIN:VEVENT
SUMMARY:Il ciclo di vita di una policy
DTSTART;TZID=Europe/Rome;VALUE=DATE-TIME:20240124T100000
DTEND;TZID=Europe/Rome;VALUE=DATE-TIME:20240124T130000
DTSTAMP;VALUE=DATE-TIME:20260426T010114Z
UID:e2a262b70e204cd78317d28a1f39e200@sde.unibo.it
CREATED;VALUE=DATE-TIME:20240119T111009Z
DESCRIPTION:Secondo appuntamento delle SDE Lectures.
LAST-MODIFIED;VALUE=DATE-TIME:20240122T134255Z
URL:https://sde.unibo.it/it/eventi/il-ciclo-di-vita-di-una-policy
END:VEVENT
BEGIN:VTIMEZONE
TZID:Europe/Rome
X-LIC-LOCATION:Europe/Rome
BEGIN:STANDARD
DTSTART;VALUE=DATE-TIME:20231029T020000
TZNAME:CET
TZOFFSETFROM:+0200
TZOFFSETTO:+0100
END:STANDARD
END:VTIMEZONE
END:VCALENDAR
