BEGIN:VCALENDAR
VERSION:2.0
PRODID:-//Plone.org//NONSGML plone.app.event//EN
X-WR-TIMEZONE:Europe/Rome
BEGIN:VEVENT
SUMMARY:Identità e paure: gli italiani e l’immigrazione
DTSTART;TZID=Europe/Rome;VALUE=DATE-TIME:20151008T130000
DTEND;TZID=Europe/Rome;VALUE=DATE-TIME:20151008T150000
DTSTAMP;VALUE=DATE-TIME:20260423T000022Z
UID:0a78e46212434ef084e9807df511932b@sde.unibo.it
CREATED;VALUE=DATE-TIME:20150415T082708Z
DESCRIPTION:ciclo di seminari\nOltre la superficie. Lo sguardo sociologico
  sulle società contemporanee.\n
LAST-MODIFIED;VALUE=DATE-TIME:20150415T083900Z
URL:https://sde.unibo.it/it/eventi/identita-e-paure-gli-italiani-e-l2019im
 migrazione
END:VEVENT
BEGIN:VTIMEZONE
TZID:Europe/Rome
X-LIC-LOCATION:Europe/Rome
BEGIN:DAYLIGHT
DTSTART;VALUE=DATE-TIME:20150329T030000
TZNAME:CEST
TZOFFSETFROM:+0100
TZOFFSETTO:+0200
END:DAYLIGHT
END:VTIMEZONE
END:VCALENDAR
