BEGIN:VCALENDAR
VERSION:2.0
PRODID:-//Plone.org//NONSGML plone.app.event//EN
X-WR-TIMEZONE:Europe/Rome
BEGIN:VEVENT
SUMMARY:I.T.A.C.A. MIGRANTI E VIAGGIATORI
DTSTART;TZID=Europe/Rome;VALUE=DATE-TIME:20210427T170000
DTEND;TZID=Europe/Rome;VALUE=DATE-TIME:20210427T190000
DTSTAMP;VALUE=DATE-TIME:20260419T150609Z
UID:45c9be2c43e443f38a585ce72de0dbd4@sde.unibo.it
CREATED;VALUE=DATE-TIME:20210427T113845Z
DESCRIPTION:Festival del turismo responsabile. Tredicesima edizione. Dirit
 to di respirare.
LAST-MODIFIED;VALUE=DATE-TIME:20210427T114035Z
URL:https://sde.unibo.it/it/eventi/i-t-a-c-a-migranti-e-viaggiatori
END:VEVENT
BEGIN:VTIMEZONE
TZID:Europe/Rome
X-LIC-LOCATION:Europe/Rome
BEGIN:DAYLIGHT
DTSTART;VALUE=DATE-TIME:20210328T030000
TZNAME:CEST
TZOFFSETFROM:+0100
TZOFFSETTO:+0200
END:DAYLIGHT
END:VTIMEZONE
END:VCALENDAR
