BEGIN:VCALENDAR
VERSION:2.0
PRODID:-//Plone.org//NONSGML plone.app.event//EN
X-WR-TIMEZONE:Europe/Rome
BEGIN:VEVENT
SUMMARY:I problemi di regolazione nell’era delle piattaforme
DTSTART;TZID=Europe/Rome;VALUE=DATE-TIME:20190521T110000
DTEND;TZID=Europe/Rome;VALUE=DATE-TIME:20190521T130000
DTSTAMP;VALUE=DATE-TIME:20260425T155400Z
UID:7c6bd1189b954c90a9c9e2ed16bd0cc2@sde.unibo.it
CREATED;VALUE=DATE-TIME:20190515T083226Z
DESCRIPTION:seminario di studio \nL'evento è organizzato nell’ambito de
 lle attività del Dottorato in Diritto Europeo.
LAST-MODIFIED;VALUE=DATE-TIME:20190515T083901Z
URL:https://sde.unibo.it/it/eventi/i-problemi-di-regolazione-nell2019era-d
 elle-piattaforme
END:VEVENT
BEGIN:VTIMEZONE
TZID:Europe/Rome
X-LIC-LOCATION:Europe/Rome
BEGIN:DAYLIGHT
DTSTART;VALUE=DATE-TIME:20190331T030000
TZNAME:CEST
TZOFFSETFROM:+0100
TZOFFSETTO:+0200
END:DAYLIGHT
END:VTIMEZONE
END:VCALENDAR
