BEGIN:VCALENDAR
VERSION:2.0
PRODID:-//Plone.org//NONSGML plone.app.event//EN
X-WR-TIMEZONE:Europe/Rome
BEGIN:VEVENT
SUMMARY:I principi di giustizia tributaria nella prospettiva dell'Unione E
 uropea - Prof. Carlos Maria Lopez Espadafor
DTSTART;TZID=Europe/Rome;VALUE=DATE-TIME:20170309T150000
DTEND;TZID=Europe/Rome;VALUE=DATE-TIME:20170309T173000
DTSTAMP;VALUE=DATE-TIME:20260422T185741Z
UID:9727d011a6bb411a948589d18d9a7458@sde.unibo.it
CREATED;VALUE=DATE-TIME:20170221T084555Z
DESCRIPTION:Dottorato di Ricerca in Diritto Europeo
LAST-MODIFIED;VALUE=DATE-TIME:20170221T084613Z
URL:https://sde.unibo.it/it/eventi/i-principi-di-giustizia-tributaria-nell
 a-prospettiva-dellunione-europea-prof.-carlos-maria-lopez-espadafor
END:VEVENT
BEGIN:VTIMEZONE
TZID:Europe/Rome
X-LIC-LOCATION:Europe/Rome
BEGIN:STANDARD
DTSTART;VALUE=DATE-TIME:20161030T020000
TZNAME:CET
TZOFFSETFROM:+0200
TZOFFSETTO:+0100
END:STANDARD
END:VTIMEZONE
END:VCALENDAR
